BEGIN:VCALENDAR
VERSION:2.0
PRODID:Events Booking
BEGIN:VEVENT
UID:69eab912ac7f2
SUMMARY:Loren Induction Wine Selection Event
DESCRIPTION:Please join Echanson Philippe Froncioni for an exclusive event 
 on Tuesday\, April 9th at the Loren\, where 14 Ordre Mondial members will 
 assist Philippe in choosing the wine pairings for our upcoming Grand Chapi
 tre (to be held on May 4th). 
 Spaces are limited to Ordre Mondial membe
 rs only.
 
 
 
 Where:
 The Loren
 
 
 Date:
 Tuesday\, April 9th
 
 
 
 When:
 6PM - 8PM
 
 
 
LOCATION:The Loren at Pink Beach\, 116\, South Road\, Smith's\, Tucker's To
 wn\, HS 01\, Bermuda
DTSTART:20240409T210000Z
DTEND:20240409T230000Z
DTSTAMP:20240330T231538Z
ORGANIZER;CN=Chaîne des Rôtisseurs - Bailliage des Bermudes:MAILTO:events
 @chainebda.com
GEO:32.321991;-64.709999
X-APPLE-STRUCTURED-LOCATION;VALUE=URI;X-ADDRESS=The Loren at Pink Beach\, 1
 16\, South Road\, Smith's\, Tucker's Town\, HS 01\, Bermuda;X-APPLE-RADIUS
 =72;X-TITLE=The Loren:32.321991;-64.709999
END:VEVENT
END:VCALENDAR